BEGIN:VCALENDAR
VERSION:2.0
PRODID:-//wp-events-plugin.com//7.2.3.1//EN
TZID:Europe/Berlin
X-WR-TIMEZONE:Europe/Berlin
BEGIN:VEVENT
UID:261@lipperbruch.de
DTSTART;TZID=Europe/Berlin:20250420T180000
DTEND;TZID=Europe/Berlin:20250420T220000
DTSTAMP:20250111T202815Z
URL:https://lipperbruch.de/events/osterfeuer-4/
SUMMARY:Osterfeuer
DESCRIPTION:
CATEGORIES:Schützenverein Lipperbruch e. V.
LOCATION:Schützenplatz\, Mastholter Straße\, Lippstadt\, 59558\, Deutschl
 and
X-APPLE-STRUCTURED-LOCATION;VALUE=URI;X-ADDRESS=Mastholter Straße\, Lippst
 adt\, 59558\, Deutschland;X-APPLE-RADIUS=100;X-TITLE=Schützenplatz:geo:0,
 0
END:VEVENT
BEGIN:VTIMEZONE
TZID:Europe/Berlin
X-LIC-LOCATION:Europe/Berlin
BEGIN:DAYLIGHT
DTSTART:20250330T030000
TZOFFSETFROM:+0100
TZOFFSETTO:+0200
TZNAME:CEST
END:DAYLIGHT
END:VTIMEZONE
END:VCALENDAR